BEGIN:VCALENDAR
VERSION:2.0
BEGIN:VEVENT
DTSTART;TZID=Europe/Stockholm:20210910T100000
DTEND;TZID=Europe/Stockholm:20210910T110000
DTSTAMP:20260423T231624
DESCRIPTION:I Odalkyrkan.
SEQUENCE:0
SUMMARY:EKUMENISK BÖN
UID:2469@lawebb.se
END:VEVENT
END:VCALENDAR