BEGIN:VCALENDAR
VERSION:2.0
BEGIN:VEVENT
DTSTART;TZID=Europe/Stockholm:20210914T090000
DTEND;TZID=Europe/Stockholm:20210914T100000
DTSTAMP:20260423T231300
DESCRIPTION:
SEQUENCE:0
SUMMARY:SYTRÄFF
UID:2753@lawebb.se
END:VEVENT
END:VCALENDAR