BEGIN:VCALENDAR
VERSION:2.0
BEGIN:VEVENT
DTSTART;TZID=Europe/Stockholm:20210924T100000
DTEND;TZID=Europe/Stockholm:20210924T110000
DTSTAMP:20260423T231851
DESCRIPTION:I Odalkyrkan.
SEQUENCE:0
SUMMARY:EKUMENISK BÖN
UID:8968@lawebb.se
END:VEVENT
END:VCALENDAR