BEGIN:VCALENDAR
VERSION:2.0
BEGIN:VEVENT
DTSTART;TZID=Europe/Stockholm:20211001T100000
DTEND;TZID=Europe/Stockholm:20211001T110000
DTSTAMP:20260423T215435
DESCRIPTION:I Odalkyrkan.
SEQUENCE:0
SUMMARY:EKUMENISK BÖN
UID:4999@lawebb.se
END:VEVENT
END:VCALENDAR