BEGIN:VCALENDAR
VERSION:2.0
BEGIN:VEVENT
DTSTART;TZID=Europe/Stockholm:20211005T090000
DTEND;TZID=Europe/Stockholm:20211005T100000
DTSTAMP:20260423T215659
DESCRIPTION:
SEQUENCE:0
SUMMARY:SYTRÄFF
UID:6853@lawebb.se
END:VEVENT
END:VCALENDAR