BEGIN:VCALENDAR
VERSION:2.0
BEGIN:VEVENT
DTSTART;TZID=Europe/Stockholm:20211029T100000
DTEND;TZID=Europe/Stockholm:20211029T110000
DTSTAMP:20260423T220230
DESCRIPTION:I Odalkyrkan.
SEQUENCE:0
SUMMARY:EKUMENISK BÖN
UID:6254@lawebb.se
END:VEVENT
END:VCALENDAR