BEGIN:VCALENDAR
VERSION:2.0
BEGIN:VEVENT
DTSTART;TZID=Europe/Stockholm:20211105T100000
DTEND;TZID=Europe/Stockholm:20211105T110000
DTSTAMP:20260423T203916
DESCRIPTION:I Odalkyrkan.
SEQUENCE:0
SUMMARY:EKUMENISK BÖN
UID:3474@lawebb.se
END:VEVENT
END:VCALENDAR