BEGIN:VCALENDAR
VERSION:2.0
BEGIN:VEVENT
DTSTART;TZID=Europe/Stockholm:20211109T090000
DTEND;TZID=Europe/Stockholm:20211109T100000
DTSTAMP:20260423T203530
DESCRIPTION:
SEQUENCE:0
SUMMARY:SYTRÄFF
UID:8236@lawebb.se
END:VEVENT
END:VCALENDAR