BEGIN:VCALENDAR
VERSION:2.0
BEGIN:VEVENT
DTSTART;TZID=Europe/Stockholm:20211112T100000
DTEND;TZID=Europe/Stockholm:20211112T110000
DTSTAMP:20260423T204003
DESCRIPTION:I Odalkyrkan.
SEQUENCE:0
SUMMARY:EKUMENISK BÖN
UID:9226@lawebb.se
END:VEVENT
END:VCALENDAR