BEGIN:VCALENDAR
VERSION:2.0
BEGIN:VEVENT
DTSTART;TZID=Europe/Stockholm:20211116T090000
DTEND;TZID=Europe/Stockholm:20211116T100000
DTSTAMP:20260423T203551
DESCRIPTION:
SEQUENCE:0
SUMMARY:SYTRÄFF
UID:6733@lawebb.se
END:VEVENT
END:VCALENDAR