BEGIN:VCALENDAR
VERSION:2.0
BEGIN:VEVENT
DTSTART;TZID=Europe/Stockholm:20211119T100000
DTEND;TZID=Europe/Stockholm:20211119T110000
DTSTAMP:20260423T203904
DESCRIPTION:I Odalkyrkan.
SEQUENCE:0
SUMMARY:EKUMENISK BÖN
UID:2763@lawebb.se
END:VEVENT
END:VCALENDAR