BEGIN:VCALENDAR
VERSION:2.0
BEGIN:VEVENT
DTSTART;TZID=Europe/Stockholm:20211123T090000
DTEND;TZID=Europe/Stockholm:20211123T100000
DTSTAMP:20260423T204105
DESCRIPTION:
SEQUENCE:0
SUMMARY:SYTRÄFF
UID:3229@lawebb.se
END:VEVENT
END:VCALENDAR