BEGIN:VCALENDAR
VERSION:2.0
BEGIN:VEVENT
DTSTART;TZID=Europe/Stockholm:20211130T090000
DTEND;TZID=Europe/Stockholm:20211130T100000
DTSTAMP:20260423T203531
DESCRIPTION:
SEQUENCE:0
SUMMARY:SYTRÄFF
UID:4967@lawebb.se
END:VEVENT
END:VCALENDAR