BEGIN:VCALENDAR
VERSION:2.0
BEGIN:VEVENT
DTSTART;TZID=Europe/Stockholm:20211207T090000
DTEND;TZID=Europe/Stockholm:20211207T100000
DTSTAMP:20260423T190835
DESCRIPTION:
SEQUENCE:0
SUMMARY:SYTRÄFF
UID:3667@lawebb.se
END:VEVENT
END:VCALENDAR