BEGIN:VCALENDAR
VERSION:2.0
BEGIN:VEVENT
DTSTART;TZID=Europe/Stockholm:20211214T090000
DTEND;TZID=Europe/Stockholm:20211214T100000
DTSTAMP:20260423T190933
DESCRIPTION:
SEQUENCE:0
SUMMARY:SYTRÄFF
UID:2428@lawebb.se
END:VEVENT
END:VCALENDAR