BEGIN:VCALENDAR
VERSION:2.0
BEGIN:VEVENT
DTSTART;TZID=Europe/Stockholm:20230207T090000
DTEND;TZID=Europe/Stockholm:20230207T100000
DTSTAMP:20260423T115437
DESCRIPTION:
SEQUENCE:0
SUMMARY:SYTRÄFF
UID:7533@lawebb.se
END:VEVENT
END:VCALENDARBEGIN:VCALENDAR
VERSION:2.0
BEGIN:VEVENT
DTSTART;TZID=Europe/Stockholm:20220125T090000
DTEND;TZID=Europe/Stockholm:20220125T100000
DTSTAMP:20260423T173455
DESCRIPTION:
SEQUENCE:0
SUMMARY:SYTRÄFF
UID:6482@lawebb.se
END:VEVENT
END:VCALENDAR