BEGIN:VCALENDAR
VERSION:2.0
BEGIN:VEVENT
DTSTART;TZID=Europe/Stockholm:20220127T183000
DTEND;TZID=Europe/Stockholm:20220127T193000
DTSTAMP:20260423T174032
DESCRIPTION:
SEQUENCE:0
SUMMARY:SCOUT
UID:8795@lawebb.se
END:VEVENT
END:VCALENDAR