BEGIN:VCALENDAR
VERSION:2.0
BEGIN:VEVENT
DTSTART;TZID=Europe/Stockholm:20220208T090000
DTEND;TZID=Europe/Stockholm:20220208T100000
DTSTAMP:20260423T161016
DESCRIPTION:
SEQUENCE:0
SUMMARY:SYTRÄFF
UID:5986@lawebb.se
END:VEVENT
END:VCALENDAR