BEGIN:VCALENDAR
VERSION:2.0
BEGIN:VEVENT
DTSTART;TZID=Europe/Stockholm:20220217T183000
DTEND;TZID=Europe/Stockholm:20220217T193000
DTSTAMP:20260423T160622
DESCRIPTION:
SEQUENCE:0
SUMMARY:SCOUT
UID:4848@lawebb.se
END:VEVENT
END:VCALENDAR