BEGIN:VCALENDAR
VERSION:2.0
BEGIN:VEVENT
DTSTART;TZID=Europe/Stockholm:20220221T180000
DTEND;TZID=Europe/Stockholm:20220221T190000
DTSTAMP:20260423T160622
DESCRIPTION:Samling på Zoom. https://us06web.zoom.us/j/87275202241?pwd=L2FaTXcreGVad2tOK1BNdHFYSEhrUT09
SEQUENCE:0
SUMMARY:KVÄLLSMAT OCH BÖN
UID:8234@lawebb.se
END:VEVENT
END:VCALENDAR