BEGIN:VCALENDAR
VERSION:2.0
BEGIN:VEVENT
DTSTART;TZID=Europe/Stockholm:20220222T090000
DTEND;TZID=Europe/Stockholm:20220222T100000
DTSTAMP:20260423T161118
DESCRIPTION:
SEQUENCE:0
SUMMARY:SYTRÄFF
UID:3734@lawebb.se
END:VEVENT
END:VCALENDAR