BEGIN:VCALENDAR
VERSION:2.0
BEGIN:VEVENT
DTSTART;TZID=Europe/Stockholm:20220228T173000
DTEND;TZID=Europe/Stockholm:20220228T183000
DTSTAMP:20260423T160531
DESCRIPTION:I Odalkyrkan
SEQUENCE:0
SUMMARY:KVÄLLSMAT OCH BÖN
UID:9848@lawebb.se
END:VEVENT
END:VCALENDAR