BEGIN:VCALENDAR
VERSION:2.0
BEGIN:VEVENT
DTSTART;TZID=Europe/Stockholm:20220303T183000
DTEND;TZID=Europe/Stockholm:20220303T193000
DTSTAMP:20260423T143823
DESCRIPTION:
SEQUENCE:0
SUMMARY:SCOUT
UID:7933@lawebb.se
END:VEVENT
END:VCALENDAR