BEGIN:VCALENDAR
VERSION:2.0
BEGIN:VEVENT
DTSTART;TZID=Europe/Stockholm:20220308T090000
DTEND;TZID=Europe/Stockholm:20220308T100000
DTSTAMP:20260423T143628
DESCRIPTION:
SEQUENCE:0
SUMMARY:SYTRÄFF
UID:4555@lawebb.se
END:VEVENT
END:VCALENDAR