BEGIN:VCALENDAR
VERSION:2.0
BEGIN:VEVENT
DTSTART;TZID=Europe/Stockholm:20220314T173000
DTEND;TZID=Europe/Stockholm:20220314T183000
DTSTAMP:20260423T143653
DESCRIPTION:I Odalkyrkan
SEQUENCE:0
SUMMARY:KVÄLLSMAT OCH BÖN
UID:7532@lawebb.se
END:VEVENT
END:VCALENDAR