BEGIN:VCALENDAR
VERSION:2.0
BEGIN:VEVENT
DTSTART;TZID=Europe/Stockholm:20220317T183000
DTEND;TZID=Europe/Stockholm:20220317T193000
DTSTAMP:20260423T143756
DESCRIPTION:
SEQUENCE:0
SUMMARY:SCOUT
UID:4686@lawebb.se
END:VEVENT
END:VCALENDAR