BEGIN:VCALENDAR
VERSION:2.0
BEGIN:VEVENT
DTSTART;TZID=Europe/Stockholm:20220322T090000
DTEND;TZID=Europe/Stockholm:20220322T100000
DTSTAMP:20260423T143833
DESCRIPTION:
SEQUENCE:0
SUMMARY:SYTRÄFF
UID:3979@lawebb.se
END:VEVENT
END:VCALENDAR