BEGIN:VCALENDAR
VERSION:2.0
BEGIN:VEVENT
DTSTART;TZID=Europe/Stockholm:20220328T173000
DTEND;TZID=Europe/Stockholm:20220328T183000
DTSTAMP:20260423T143628
DESCRIPTION:I Odalkyrkan
SEQUENCE:0
SUMMARY:KVÄLLSMAT OCH BÖN
UID:5538@lawebb.se
END:VEVENT
END:VCALENDAR