BEGIN:VCALENDAR
VERSION:2.0
BEGIN:VEVENT
DTSTART;TZID=Europe/Stockholm:20220329T090000
DTEND;TZID=Europe/Stockholm:20220329T100000
DTSTAMP:20260423T143627
DESCRIPTION:
SEQUENCE:0
SUMMARY:SYTRÄFF
UID:4769@lawebb.se
END:VEVENT
END:VCALENDAR