BEGIN:VCALENDAR
VERSION:2.0
BEGIN:VEVENT
DTSTART;TZID=Europe/Stockholm:20230105T183000
DTEND;TZID=Europe/Stockholm:20230105T193000
DTSTAMP:20260423T131356
DESCRIPTION:
SEQUENCE:0
SUMMARY:SCOUT
UID:8224@lawebb.se
END:VEVENT
END:VCALENDAR