BEGIN:VCALENDAR
VERSION:2.0
BEGIN:VEVENT
DTSTART;TZID=Europe/Stockholm:20230112T183000
DTEND;TZID=Europe/Stockholm:20230112T193000
DTSTAMP:20260423T131428
DESCRIPTION:
SEQUENCE:0
SUMMARY:SCOUT
UID:3478@lawebb.se
END:VEVENT
END:VCALENDAR