BEGIN:VCALENDAR
VERSION:2.0
BEGIN:VEVENT
DTSTART;TZID=Europe/Stockholm:20230116T093000
DTEND;TZID=Europe/Stockholm:20230116T103000
DTSTAMP:20260423T131526
DESCRIPTION:
SEQUENCE:0
SUMMARY:MÅNDAGSKAFÉ FÖR DAGLEDIGA
UID:5753@lawebb.se
END:VEVENT
END:VCALENDAR