BEGIN:VCALENDAR
VERSION:2.0
BEGIN:VEVENT
DTSTART;TZID=Europe/Stockholm:20230117T090000
DTEND;TZID=Europe/Stockholm:20230117T100000
DTSTAMP:20260423T131555
DESCRIPTION:
SEQUENCE:0
SUMMARY:SYTRÄFF
UID:6747@lawebb.se
END:VEVENT
END:VCALENDAR