BEGIN:VCALENDAR
VERSION:2.0
BEGIN:VEVENT
DTSTART;TZID=Europe/Stockholm:20230130T093000
DTEND;TZID=Europe/Stockholm:20230130T103000
DTSTAMP:20260423T131355
DESCRIPTION:
SEQUENCE:0
SUMMARY:MÅNDAGSKAFÉ FÖR DAGLEDIGA
UID:8535@lawebb.se
END:VEVENT
END:VCALENDAR