BEGIN:VCALENDAR
VERSION:2.0
BEGIN:VEVENT
DTSTART;TZID=Europe/Stockholm:20230131T090000
DTEND;TZID=Europe/Stockholm:20230131T100000
DTSTAMP:20260423T131455
DESCRIPTION:
SEQUENCE:0
SUMMARY:SYTRÄFF
UID:5839@lawebb.se
END:VEVENT
END:VCALENDAR