BEGIN:VCALENDAR
VERSION:2.0
BEGIN:VEVENT
DTSTART;TZID=Europe/Stockholm:20230202T173000
DTEND;TZID=Europe/Stockholm:20230202T183000
DTSTAMP:20260423T115612
DESCRIPTION:
SEQUENCE:0
SUMMARY:KVÄLLSMAT OCH BÖN
UID:8598@lawebb.se
END:VEVENT
END:VCALENDAR