BEGIN:VCALENDAR
VERSION:2.0
BEGIN:VEVENT
DTSTART;TZID=Europe/Stockholm:20230205T100000
DTEND;TZID=Europe/Stockholm:20230205T110000
DTSTAMP:20260423T115714
DESCRIPTION:
SEQUENCE:0
SUMMARY:GUDSTJÄNST
UID:3864@lawebb.se
END:VEVENT
END:VCALENDAR