BEGIN:VCALENDAR
VERSION:2.0
BEGIN:VEVENT
DTSTART;TZID=Europe/Stockholm:20230212T100000
DTEND;TZID=Europe/Stockholm:20230212T110000
DTSTAMP:20260423T115807
DESCRIPTION:
SEQUENCE:0
SUMMARY:GUDSTJÄNST
UID:4537@lawebb.se
END:VEVENT
END:VCALENDAR