BEGIN:VCALENDAR
VERSION:2.0
BEGIN:VEVENT
DTSTART;TZID=Europe/Stockholm:20230219T100000
DTEND;TZID=Europe/Stockholm:20230219T110000
DTSTAMP:20260423T115756
DESCRIPTION:
SEQUENCE:0
SUMMARY:GUDSTJÄNST
UID:2395@lawebb.se
END:VEVENT
END:VCALENDAR