BEGIN:VCALENDAR
VERSION:2.0
BEGIN:VEVENT
DTSTART;TZID=Europe/Stockholm:20230306T093000
DTEND;TZID=Europe/Stockholm:20230306T103000
DTSTAMP:20260423T131605
DESCRIPTION:
SEQUENCE:0
SUMMARY:MÅNDAGSKAFÉ
UID:3298@lawebb.se
END:VEVENT
END:VCALENDAR