BEGIN:VCALENDAR
VERSION:2.0
BEGIN:VEVENT
DTSTART;TZID=Europe/Stockholm:20230307T090000
DTEND;TZID=Europe/Stockholm:20230307T100000
DTSTAMP:20260423T131458
DESCRIPTION:
SEQUENCE:0
SUMMARY:SYTRÄFF
UID:2345@lawebb.se
END:VEVENT
END:VCALENDAR