BEGIN:VCALENDAR
VERSION:2.0
BEGIN:VEVENT
DTSTART;TZID=Europe/Stockholm:20230309T183000
DTEND;TZID=Europe/Stockholm:20230309T193000
DTSTAMP:20260423T131924
DESCRIPTION:
SEQUENCE:0
SUMMARY:SCOUT
UID:9755@lawebb.se
END:VEVENT
END:VCALENDAR