BEGIN:VCALENDAR
VERSION:2.0
BEGIN:VEVENT
DTSTART;TZID=Europe/Stockholm:20230312T100000
DTEND;TZID=Europe/Stockholm:20230312T110000
DTSTAMP:20260423T131806
DESCRIPTION:
SEQUENCE:0
SUMMARY:GUDSTJÄNST
UID:7429@lawebb.se
END:VEVENT
END:VCALENDAR