BEGIN:VCALENDAR
VERSION:2.0
BEGIN:VEVENT
DTSTART;TZID=Europe/Stockholm:20230319T100000
DTEND;TZID=Europe/Stockholm:20230319T110000
DTSTAMP:20260423T131728
DESCRIPTION:
SEQUENCE:0
SUMMARY:GUDSTJÄNST
UID:5976@lawebb.se
END:VEVENT
END:VCALENDAR