BEGIN:VCALENDAR
VERSION:2.0
BEGIN:VEVENT
DTSTART;TZID=Europe/Stockholm:20230321T090000
DTEND;TZID=Europe/Stockholm:20230321T100000
DTSTAMP:20260423T131424
DESCRIPTION:
SEQUENCE:0
SUMMARY:SYTRÄFF
UID:3793@lawebb.se
END:VEVENT
END:VCALENDAR