BEGIN:VCALENDAR
VERSION:2.0
BEGIN:VEVENT
DTSTART;TZID=Europe/Stockholm:20230323T183000
DTEND;TZID=Europe/Stockholm:20230323T193000
DTSTAMP:20260423T131750
DESCRIPTION:
SEQUENCE:0
SUMMARY:SCOUT
UID:9832@lawebb.se
END:VEVENT
END:VCALENDAR