BEGIN:VCALENDAR
VERSION:2.0
BEGIN:VEVENT
DTSTART;TZID=Europe/Stockholm:20230326T100000
DTEND;TZID=Europe/Stockholm:20230326T110000
DTSTAMP:20260423T131804
DESCRIPTION:
SEQUENCE:0
SUMMARY:GUDSTJÄNST
UID:9342@lawebb.se
END:VEVENT
END:VCALENDAR