BEGIN:VCALENDAR
VERSION:2.0
BEGIN:VEVENT
DTSTART;TZID=Europe/Stockholm:20230409T100000
DTEND;TZID=Europe/Stockholm:20230409T110000
DTSTAMP:20260423T143418
DESCRIPTION:
SEQUENCE:0
SUMMARY:GUDSTJÄNST
UID:2844@lawebb.se
END:VEVENT
END:VCALENDAR