BEGIN:VCALENDAR
VERSION:2.0
BEGIN:VEVENT
DTSTART;TZID=Europe/Stockholm:20230410T093000
DTEND;TZID=Europe/Stockholm:20230410T103000
DTSTAMP:20260423T143330
DESCRIPTION:
SEQUENCE:0
SUMMARY:MÅNDAGSKAFÉ
UID:8279@lawebb.se
END:VEVENT
END:VCALENDAR