BEGIN:VCALENDAR
VERSION:2.0
BEGIN:VEVENT
DTSTART;TZID=Europe/Stockholm:20230411T090000
DTEND;TZID=Europe/Stockholm:20230411T100000
DTSTAMP:20260423T143330
DESCRIPTION:
SEQUENCE:0
SUMMARY:SYTRÄFF
UID:2976@lawebb.se
END:VEVENT
END:VCALENDAR